BEGIN:VCALENDAR
VERSION:2.0
PRODID:-//jEvents 2.0 for Joomla//EN
CALSCALE:GREGORIAN
METHOD:PUBLISH
BEGIN:VTIMEZONE
TZID:Europe/Berlin
BEGIN:STANDARD
DTSTART:20251026T020000
RDATE:20260329T030000
TZOFFSETFROM:+0200
TZOFFSETTO:+0100
TZNAME:Europe/Berlin CET
END:STANDARD
BEGIN:STANDARD
DTSTART:20261025T020000
RDATE:20270328T030000
TZOFFSETFROM:+0200
TZOFFSETTO:+0100
TZNAME:Europe/Berlin CET
END:STANDARD
BEGIN:STANDARD
DTSTART:20271031T020000
RDATE:20280326T030000
TZOFFSETFROM:+0200
TZOFFSETTO:+0100
TZNAME:Europe/Berlin CET
END:STANDARD
BEGIN:STANDARD
DTSTART:20281029T020000
RDATE:20290325T030000
TZOFFSETFROM:+0200
TZOFFSETTO:+0100
TZNAME:Europe/Berlin CET
END:STANDARD
BEGIN:STANDARD
DTSTART:20291028T020000
RDATE:20300331T030000
TZOFFSETFROM:+0200
TZOFFSETTO:+0100
TZNAME:Europe/Berlin CET
END:STANDARD
BEGIN:STANDARD
DTSTART:20301027T020000
RDATE:20310330T030000
TZOFFSETFROM:+0200
TZOFFSETTO:+0100
TZNAME:Europe/Berlin CET
END:STANDARD
BEGIN:STANDARD
DTSTART:20311026T020000
RDATE:20320328T030000
TZOFFSETFROM:+0200
TZOFFSETTO:+0100
TZNAME:Europe/Berlin CET
END:STANDARD
BEGIN:DAYLIGHT
DTSTART:20250427T193000
RDATE:20251026T020000
TZOFFSETFROM:+0100
TZOFFSETTO:+0200
TZNAME:Europe/Berlin CEST
END:DAYLIGHT
BEGIN:DAYLIGHT
DTSTART:20260329T030000
RDATE:20261025T020000
TZOFFSETFROM:+0100
TZOFFSETTO:+0200
TZNAME:Europe/Berlin CEST
END:DAYLIGHT
BEGIN:DAYLIGHT
DTSTART:20270328T030000
RDATE:20271031T020000
TZOFFSETFROM:+0100
TZOFFSETTO:+0200
TZNAME:Europe/Berlin CEST
END:DAYLIGHT
BEGIN:DAYLIGHT
DTSTART:20280326T030000
RDATE:20281029T020000
TZOFFSETFROM:+0100
TZOFFSETTO:+0200
TZNAME:Europe/Berlin CEST
END:DAYLIGHT
BEGIN:DAYLIGHT
DTSTART:20290325T030000
RDATE:20291028T020000
TZOFFSETFROM:+0100
TZOFFSETTO:+0200
TZNAME:Europe/Berlin CEST
END:DAYLIGHT
BEGIN:DAYLIGHT
DTSTART:20300331T030000
RDATE:20301027T020000
TZOFFSETFROM:+0100
TZOFFSETTO:+0200
TZNAME:Europe/Berlin CEST
END:DAYLIGHT
BEGIN:DAYLIGHT
DTSTART:20310330T030000
RDATE:20311026T020000
TZOFFSETFROM:+0100
TZOFFSETTO:+0200
TZNAME:Europe/Berlin CEST
END:DAYLIGHT
END:VTIMEZONE
BEGIN:VEVENT
UID:e5fb6d6056152ed39fcb954863760800
CATEGORIES:Sitzungen
CREATED:20260424T090148
SUMMARY:Gemeinderatssitzung
LOCATION:Rathaus Oberndorf
DESCRIPTION:TAGESORDNUNG:\nÖffentliche Sitzung\n1 Genehmigung der Niederschrift - öffen
 tlicher Teil vom 24.03.2026\n2 Bauantrag Errichtung einer Lagerhalle für Ho
 lz und Geräte für private Zwecke, Bauort Fl. Nr. 46/4 u. 46/6, Spessartstra
 ße 2 a, der Gemarkung Bischbrunn\n3 Bekanntgabe der in nichtöffentlicher Si
 tzung gefassten Beschlüsse\n4 Sonstige aktuelle Informationen\n5 Verschiede
 nes, Wünsche und Anträge\n
X-ALT-DESC;FMTTYPE=text/html:<p>TAGESORDNUNG:<br />Öffentliche Sitzung<br />1 Genehmigung der Niederschr
 ift - öffentlicher Teil vom 24.03.2026<br />2 Bauantrag Errichtung einer La
 gerhalle für Holz und Geräte für private Zwecke, Bauort Fl. Nr. 46/4 u. 46/
 6, Spessartstraße 2 a, der Gemarkung Bischbrunn<br />3 Bekanntgabe der in n
 ichtöffentlicher Sitzung gefassten Beschlüsse<br />4 Sonstige aktuelle Info
 rmationen<br />5 Verschiedenes, Wünsche und Anträge</p>
CONTACT:Gemeinde Bischbrunn
DTSTAMP:20260425T122257
DTSTART;TZID=Europe/Berlin:20260428T193000
SEQUENCE:0
TRANSP:OPAQUE
END:VEVENT
END:VCALENDAR