BEGIN:VCALENDAR
VERSION:2.0
PRODID:-//jEvents 2.0 for Joomla//EN
CALSCALE:GREGORIAN
METHOD:PUBLISH
BEGIN:VTIMEZONE
TZID:Europe/Berlin
BEGIN:STANDARD
DTSTART:20251026T020000
RDATE:20260329T030000
TZOFFSETFROM:+0200
TZOFFSETTO:+0100
TZNAME:Europe/Berlin CET
END:STANDARD
BEGIN:STANDARD
DTSTART:20261025T020000
RDATE:20270328T030000
TZOFFSETFROM:+0200
TZOFFSETTO:+0100
TZNAME:Europe/Berlin CET
END:STANDARD
BEGIN:STANDARD
DTSTART:20271031T020000
RDATE:20280326T030000
TZOFFSETFROM:+0200
TZOFFSETTO:+0100
TZNAME:Europe/Berlin CET
END:STANDARD
BEGIN:STANDARD
DTSTART:20281029T020000
RDATE:20290325T030000
TZOFFSETFROM:+0200
TZOFFSETTO:+0100
TZNAME:Europe/Berlin CET
END:STANDARD
BEGIN:STANDARD
DTSTART:20291028T020000
RDATE:20300331T030000
TZOFFSETFROM:+0200
TZOFFSETTO:+0100
TZNAME:Europe/Berlin CET
END:STANDARD
BEGIN:STANDARD
DTSTART:20301027T020000
RDATE:20310330T030000
TZOFFSETFROM:+0200
TZOFFSETTO:+0100
TZNAME:Europe/Berlin CET
END:STANDARD
BEGIN:STANDARD
DTSTART:20311026T020000
RDATE:20320328T030000
TZOFFSETFROM:+0200
TZOFFSETTO:+0100
TZNAME:Europe/Berlin CET
END:STANDARD
BEGIN:DAYLIGHT
DTSTART:20250330T193000
RDATE:20251026T020000
TZOFFSETFROM:+0100
TZOFFSETTO:+0200
TZNAME:Europe/Berlin CEST
END:DAYLIGHT
BEGIN:DAYLIGHT
DTSTART:20260329T030000
RDATE:20261025T020000
TZOFFSETFROM:+0100
TZOFFSETTO:+0200
TZNAME:Europe/Berlin CEST
END:DAYLIGHT
BEGIN:DAYLIGHT
DTSTART:20270328T030000
RDATE:20271031T020000
TZOFFSETFROM:+0100
TZOFFSETTO:+0200
TZNAME:Europe/Berlin CEST
END:DAYLIGHT
BEGIN:DAYLIGHT
DTSTART:20280326T030000
RDATE:20281029T020000
TZOFFSETFROM:+0100
TZOFFSETTO:+0200
TZNAME:Europe/Berlin CEST
END:DAYLIGHT
BEGIN:DAYLIGHT
DTSTART:20290325T030000
RDATE:20291028T020000
TZOFFSETFROM:+0100
TZOFFSETTO:+0200
TZNAME:Europe/Berlin CEST
END:DAYLIGHT
BEGIN:DAYLIGHT
DTSTART:20300331T030000
RDATE:20301027T020000
TZOFFSETFROM:+0100
TZOFFSETTO:+0200
TZNAME:Europe/Berlin CEST
END:DAYLIGHT
BEGIN:DAYLIGHT
DTSTART:20310330T030000
RDATE:20311026T020000
TZOFFSETFROM:+0100
TZOFFSETTO:+0200
TZNAME:Europe/Berlin CEST
END:DAYLIGHT
END:VTIMEZONE
BEGIN:VEVENT
UID:644a32e1ad12a0c392762108fa6488bb
CATEGORIES:Sitzungen
CREATED:20260326T191854
SUMMARY:Gemeinderatssitzung
LOCATION:Rathaus Oberndorf
DESCRIPTION:TAGESORDNUNG:\nÖffentliche Sitzung\n1 Genehmigung der Niederschrift - öffen
 tlicher Teil vom 24.02.2026\n2 Kommunale Wärmeplanung - Beschlussfassung\n3
  5. Änderung des Flächennutzungsplans - Abwägung der eingegangenen Stellung
 nahmen sowie Planungsbilligung\n4 Aufstellung des Bebauungsplans "Wohngebie
 t Rothenbücher Weg" - Abwägung der eingegangenen Stellungnahmen sowie Planu
 ngsbilligung\n5 Bauantrag Errichtung eines Tiefstreustalls für 46 Großviehe
 inheiten mit Freilaufbereich Bauort: Fl. Nr. 430, der Gemarkung: Bischbrunn
 \n6 Bauantrag Neubau eines Einfamilienhauses mit Garage, Bauort Fl. Nr. 247
 /7, Im Waldgut 30, der Gemarkung Bischbrunn\n7 Beschlussfassung über den ak
 tualisierten Feuerwehrbedarfsplan der Gemeinde Bischbrunn\n8 Beratung und B
 eschlussfassung über die Haushaltssatzung und den Haushaltsplan für das Hau
 shaltsjahr 2026\n9 Beratung und Beschlussfassung über die mittelfristige Fi
 nanzplanung bis zum Jahre 2029 einschließlich des Investitionsprogramms\n10
  Beratung und Beschlussfassung über die Gewährung eines freiwilligen Ehrens
 oldes für Agnes Engelhardt\n11 Sonstige aktuelle Informationen\n12 Verschie
 denes, Wünsche und Anfragen\n
X-ALT-DESC;FMTTYPE=text/html:<p>TAGESORDNUNG:<br />Öffentliche Sitzung<br />1 Genehmigung der Niederschr
 ift - öffentlicher Teil vom 24.02.2026<br />2 Kommunale Wärmeplanung - Besc
 hlussfassung<br />3 5. Änderung des Flächennutzungsplans - Abwägung der ein
 gegangenen Stellungnahmen sowie Planungsbilligung<br />4 Aufstellung des Be
 bauungsplans "Wohngebiet Rothenbücher Weg" - Abwägung der eingegangenen Ste
 llungnahmen sowie Planungsbilligung<br />5 Bauantrag Errichtung eines Tiefs
 treustalls für 46 Großvieheinheiten mit Freilaufbereich Bauort: Fl. Nr. 430
 , der Gemarkung: Bischbrunn<br />6 Bauantrag Neubau eines Einfamilienhauses
  mit Garage, Bauort Fl. Nr. 247/7, Im Waldgut 30, der Gemarkung Bischbrunn<
 br />7 Beschlussfassung über den aktualisierten Feuerwehrbedarfsplan der Ge
 meinde Bischbrunn<br />8 Beratung und Beschlussfassung über die Haushaltssa
 tzung und den Haushaltsplan für das Haushaltsjahr 2026<br />9 Beratung und 
 Beschlussfassung über die mittelfristige Finanzplanung bis zum Jahre 2029 e
 inschließlich des Investitionsprogramms<br />10 Beratung und Beschlussfassu
 ng über die Gewährung eines freiwilligen Ehrensoldes für Agnes Engelhardt<b
 r />11 Sonstige aktuelle Informationen<br />12 Verschiedenes, Wünsche und A
 nfragen</p>
CONTACT:Gemeinde Bischbrunn
DTSTAMP:20260423T094946
DTSTART;TZID=Europe/Berlin:20260331T193000
SEQUENCE:0
TRANSP:OPAQUE
END:VEVENT
END:VCALENDAR