BEGIN:VCALENDAR
VERSION:2.0
PRODID:-//jEvents 2.0 for Joomla//EN
CALSCALE:GREGORIAN
METHOD:PUBLISH
BEGIN:VTIMEZONE
TZID:Europe/Berlin
BEGIN:STANDARD
DTSTART:20250223T193000
RDATE:20250330T030000
TZOFFSETFROM:+0200
TZOFFSETTO:+0100
TZNAME:Europe/Berlin CET
END:STANDARD
BEGIN:STANDARD
DTSTART:20251026T020000
RDATE:20260329T030000
TZOFFSETFROM:+0200
TZOFFSETTO:+0100
TZNAME:Europe/Berlin CET
END:STANDARD
BEGIN:STANDARD
DTSTART:20261025T020000
RDATE:20270328T030000
TZOFFSETFROM:+0200
TZOFFSETTO:+0100
TZNAME:Europe/Berlin CET
END:STANDARD
BEGIN:STANDARD
DTSTART:20271031T020000
RDATE:20280326T030000
TZOFFSETFROM:+0200
TZOFFSETTO:+0100
TZNAME:Europe/Berlin CET
END:STANDARD
BEGIN:STANDARD
DTSTART:20281029T020000
RDATE:20290325T030000
TZOFFSETFROM:+0200
TZOFFSETTO:+0100
TZNAME:Europe/Berlin CET
END:STANDARD
BEGIN:STANDARD
DTSTART:20291028T020000
RDATE:20300331T030000
TZOFFSETFROM:+0200
TZOFFSETTO:+0100
TZNAME:Europe/Berlin CET
END:STANDARD
BEGIN:STANDARD
DTSTART:20301027T020000
RDATE:20310330T030000
TZOFFSETFROM:+0200
TZOFFSETTO:+0100
TZNAME:Europe/Berlin CET
END:STANDARD
BEGIN:STANDARD
DTSTART:20311026T020000
RDATE:20320328T030000
TZOFFSETFROM:+0200
TZOFFSETTO:+0100
TZNAME:Europe/Berlin CET
END:STANDARD
BEGIN:DAYLIGHT
DTSTART:20250330T030000
RDATE:20251026T020000
TZOFFSETFROM:+0100
TZOFFSETTO:+0200
TZNAME:Europe/Berlin CEST
END:DAYLIGHT
BEGIN:DAYLIGHT
DTSTART:20260329T030000
RDATE:20261025T020000
TZOFFSETFROM:+0100
TZOFFSETTO:+0200
TZNAME:Europe/Berlin CEST
END:DAYLIGHT
BEGIN:DAYLIGHT
DTSTART:20270328T030000
RDATE:20271031T020000
TZOFFSETFROM:+0100
TZOFFSETTO:+0200
TZNAME:Europe/Berlin CEST
END:DAYLIGHT
BEGIN:DAYLIGHT
DTSTART:20280326T030000
RDATE:20281029T020000
TZOFFSETFROM:+0100
TZOFFSETTO:+0200
TZNAME:Europe/Berlin CEST
END:DAYLIGHT
BEGIN:DAYLIGHT
DTSTART:20290325T030000
RDATE:20291028T020000
TZOFFSETFROM:+0100
TZOFFSETTO:+0200
TZNAME:Europe/Berlin CEST
END:DAYLIGHT
BEGIN:DAYLIGHT
DTSTART:20300331T030000
RDATE:20301027T020000
TZOFFSETFROM:+0100
TZOFFSETTO:+0200
TZNAME:Europe/Berlin CEST
END:DAYLIGHT
BEGIN:DAYLIGHT
DTSTART:20310330T030000
RDATE:20311026T020000
TZOFFSETFROM:+0100
TZOFFSETTO:+0200
TZNAME:Europe/Berlin CEST
END:DAYLIGHT
END:VTIMEZONE
BEGIN:VEVENT
UID:e981821bbac437ba9febfc2156ae729f
CATEGORIES:Sitzungen
CREATED:20260219T181417
SUMMARY:Gemeinderatssitzung Februar
LOCATION:Aula Grundschule 
DESCRIPTION:TAGESORDNUNG:\nÖffentliche Sitzung\n1 Genehmigung der Niederschrift - öffen
 tlicher Teil vom 27.01.2026\n2 Kommunale Wärmeplanung - Vorstellung bisheri
 ger Ergebnisse\n3 Vorberatung Haushalt 2026\n4 Bestätigung der wiedergewähl
 ten Kommandanten der Freiwilligen Feuerwehr Bischbrunn\n5 TV-Befahrung Rege
 nwasserkanal in der Kändelstraße - Beratung und Beschlussfassung zur Vergab
 e\n6 Beratung und Beschlussfassung über die Beschaffung von Funkwasserzähle
 rn\n7 Vorberatung über den Feuerwehrbedarfsplan der Gemeinde Bischbrunn\n8 
 Sonstige aktuelle Informationen\n9 Verschiedenes, Wünsche und Anfragen\n
X-ALT-DESC;FMTTYPE=text/html:<p>TAGESORDNUNG:<br />Öffentliche Sitzung<br />1 Genehmigung der Niederschr
 ift - öffentlicher Teil vom 27.01.2026<br />2 Kommunale Wärmeplanung - Vors
 tellung bisheriger Ergebnisse<br />3 Vorberatung Haushalt 2026<br />4 Bestä
 tigung der wiedergewählten Kommandanten der Freiwilligen Feuerwehr Bischbru
 nn<br />5 TV-Befahrung Regenwasserkanal in der Kändelstraße - Beratung und 
 Beschlussfassung zur Vergabe<br />6 Beratung und Beschlussfassung über die 
 Beschaffung von Funkwasserzählern<br />7 Vorberatung über den Feuerwehrbeda
 rfsplan der Gemeinde Bischbrunn<br />8 Sonstige aktuelle Informationen<br /
 >9 Verschiedenes, Wünsche und Anfragen</p>
CONTACT:Gemeinde Bischbrunn
DTSTAMP:20260423T111307
DTSTART;TZID=Europe/Berlin:20260224T193000
SEQUENCE:0
TRANSP:OPAQUE
END:VEVENT
END:VCALENDAR